Workbook

Sheet рейтинг
M1: Приложение 2 к постановлению
M2: Правительства Иркутской области
M3: от ____________ № ______________
M4: «Приложение 4
M5: к Порядку проведения на территории
M6: Иркутской области конкурсного отбора
M7: инициативных проектов, выдвигаемых
M8: для получения финансовой поддержки
M9: за счет межбюджетных трансфертов
M10: из бюджета Иркутской области
A12: РЕЙТИНГ
A13: ИНИЦИАТИВНЫХ ПРОЕКТОВ НА ТЕРРИТОРИИ ИРКУТСКОЙ ОБЛАСТИ
A15: № п.п. | B15: Наименование городского округа, муниципального округа, муниципального района | C15: Наименование муниципального образования Иркутской области (далее - муниципальное образование) | D15: Наименование инициативного проекта | E15: Наименование критерия | N15: Итого по критериям оценки инициативного проекта (Оц)* | O15: Место в рейтинге
E17: Актуальность и социальная значимость инициативного проекта | G17: Степень участия граждан, индивидуальных предпринимателей, юридических лиц в реализации инициативного проекта, в том числе степень имущественного и (или) трудового участия | J17: Степень участия населения в определении проблемы, на решение которой направлен инициативный проект | M17: Социальная эффективность от реализации инициативного проекта, в том числе удельный вес населения - благополучателей (в процентах от общего числа жителей населенного пункта или района в городе)
E18: балл (bi) / коэффициент (ki) | F18: балл (bi) / коэффициент (ki) | G18: балл (bi) / коэффициент (ki) | H18: балл (bi) / коэффициент (ki) | I18: балл (bi) / коэффициент (ki) | J18: балл (bi) / коэффициент (ki) | K18: балл (bi) / коэффициент (ki) | L18: балл (bi) / коэффициент (ki) | M18: балл (bi) / коэффициент (ki)
E19: направление инициативного проекта соответствует целям или задачам, либо приоритетным направлениям, указанным в муниципальных документах стратегического планирования | F19: инициативный проект реализуется в муниципальном округе | G19: граждане, изъявившие желание принять трудовое участие в реализации инициативного проекта | H19: наличие имущественных форм участия в реализации инициативного проекта | I19: доля инициативных платежей в стоимости инициативного проекта, % | J19: количество жителей, участвующих в определении проблемы и подготовке инициативного проекта, согласно протоколу схода, собрания или конференции граждан, результатам опроса граждан и (или) подписным листам, подтверждающим поддержку инициативного проекта жителями муниципального образования или его части | K19: наличие протокола схода, собрания или конференции граждан, результатов опроса граждан и (или) подписных листов, подтверждающих поддержку инициативного проекта жителями муниципального образования или его части | L19: информационная поддержка проекта (публикации в СМИ, сети «Интернет», социальных сетях и другие) | M19: удельный вес населения - благополучателей (в процентах от общего числа жителей населенного пункта или района в городе), %
E20: да - 5 баллов, нет - 0 баллов | F20: да - 3 баллов, нет - 0 баллов | G20: да - 5 баллов, нет - 0 баллов | H20: 1 балл за каждую 1 форму имущественного участия | I20: от 10 до 15% - 5 баллов, от 16 % до 30% - 8 баллов, свыше 30 % - 10 баллов | J20: до 30 чел. - 1 балл, от 31 до 50 чел. - 5 баллов, от 51 до 100 чел. - 7 баллов, свыше 100 чел. - 10 баллов | K20: да - 5 баллов, нет - 0 баллов | L20: использование 1 вида и более – 3 балла, 3 видов и более - 10 баллов | M20: свыше 50% (влючительно) - 10 баллов; от 25 % (включительно) до 50 % - 7 баллов; до 25 % - 4 балла
E21: 0.05 | F21: 0.05 | G21: 0.1 | H21: 0.05 | I21: 0.25 | J21: 0.25 | K21: 0.05 | L21: 0.05 | M21: 0.15
A22: 1 | B22: Слюдянский муниципальный район Иркутской области | C22: =[1]Анализ!B20 -> Слюдянский муниципальный район | D22: =[1]Анализ!G20 -> Библиотека - новые горизонты | E22: =[1]Анализ!Q20 -> 0.25 | G22: =[1]Анализ!V20 -> 0.5 | H22: =[1]Анализ!Y20 -> 0.2 | I22: =[1]Анализ!N20 -> 2 | J22: =[1]Анализ!AC20 -> 2.5 | K22: =[1]Анализ!AF20 -> 0.25 | L22: =[1]Анализ!AO20 -> 0.5 | M22: =[1]Анализ!AL20 -> 1.5 | N22: =E22+G22+H22+I22+J22+K22+L22+M22 -> 7.7 | O22: 5
A23: 2 | B23: Слюдянский муниципальный район Иркутской области | C23: =[1]Анализ!B21 -> Слюдянский муниципальный район | D23: =[1]Анализ!G21 -> Новый облик сельских библиотек | E23: =[1]Анализ!Q21 -> 0.25 | G23: =[1]Анализ!V21 -> 0.5 | H23: =[1]Анализ!Y21 -> 0.2 | I23: =[1]Анализ!N21 -> 1.25 | J23: =[1]Анализ!AC21 -> 2.5 | K23: =[1]Анализ!AF21 -> 0.25 | L23: =[1]Анализ!AO21 -> 0.5 | M23: =[1]Анализ!AL21 -> 1.5 | N23: =E23+G23+H23+I23+J23+K23+L23+M23 -> 6.95 | O23: 18
A24: 3 | B24: Слюдянский муниципальный район Иркутской области | C24: =[1]Анализ!B22 -> Слюдянский муниципальный район | D24: =[1]Анализ!G22 -> Цифровая мастерская | E24: =[1]Анализ!Q22 -> 0.25 | G24: =[1]Анализ!V22 -> 0.5 | H24: =[1]Анализ!Y22 -> 0.2 | I24: =[1]Анализ!N22 -> 1.25 | J24: =[1]Анализ!AC22 -> 2.5 | K24: =[1]Анализ!AF22 -> 0.25 | L24: =[1]Анализ!AO22 -> 0.5 | M24: =[1]Анализ!AL22 -> 1.5 | N24: =E24+G24+H24+I24+J24+K24+L24+M24 -> 6.95 | O24: 19
A25: 4 | B25: Слюдянский муниципальный район Иркутской области | C25: =[1]Анализ!B23 -> Слюдянское городское поселение | D25: =[1]Анализ!G23 -> Место встречи | E25: =[1]Анализ!Q23 -> 0.25 | G25: =[1]Анализ!V23 -> 0.5 | H25: =[1]Анализ!Y23 -> 0.25 | I25: =[1]Анализ!N23 -> 1.25 | J25: =[1]Анализ!AC23 -> 2.5 | K25: =[1]Анализ!AF23 -> 0.25 | L25: =[1]Анализ!AO23 -> 0.5 | M25: =[1]Анализ!AL23 -> 1.5 | N25: =E25+G25+H25+I25+J25+K25+L25+M25 -> 7 | O25: 7
A26: 5 | B26: Слюдянский муниципальный район Иркутской области | C26: =[1]Анализ!B24 -> Байкальское горолское поселение | D26: =[1]Анализ!G24 -> Фестиваль вольной борьбы на Байкале | E26: =[1]Анализ!Q24 -> 0.25 | G26: =[1]Анализ!V24 -> 0.5 | H26: =[1]Анализ!Y24 -> 0.25 | I26: =[1]Анализ!N24 -> 1.25 | J26: =[1]Анализ!AC24 -> 2.5 | K26: =[1]Анализ!AF24 -> 0.25 | L26: =[1]Анализ!AO24 -> 0.5 | M26: =[1]Анализ!AL24 -> 1.5 | N26: =E26+G26+H26+I26+J26+K26+L26+M26 -> 7 | O26: 6
A27: 6 | B27: Слюдянский муниципальный район Иркутской области | C27: =[1]Анализ!B25 -> Култукское муниципальное образование | D27: =[1]Анализ!G25 -> Костюмный апгрейд | E27: =[1]Анализ!Q25 -> 0.25 | G27: =[1]Анализ!V25 -> 0.5 | H27: =[1]Анализ!Y25 -> 0.2 | I27: =[1]Анализ!N25 -> 1.25 | J27: =[1]Анализ!AC25 -> 2.5 | K27: =[1]Анализ!AF25 -> 0.25 | L27: =[1]Анализ!AO25 -> 0.5 | M27: =[1]Анализ!AL25 -> 1.5 | N27: =E27+G27+H27+I27+J27+K27+L27+M27 -> 6.95 | O27: 23
A28: 7 | B28: Слюдянский муниципальный район Иркутской области | C28: =[1]Анализ!B26 -> Слюдянское городское поселение | D28: =[1]Анализ!G26 -> Тайна старой башни | E28: =[1]Анализ!Q26 -> 0.25 | G28: =[1]Анализ!V26 -> 0.5 | H28: =[1]Анализ!Y26 -> 0.25 | I28: =[1]Анализ!N26 -> 2 | J28: =[1]Анализ!AC26 -> 2.5 | K28: =[1]Анализ!AF26 -> 0.25 | L28: =[1]Анализ!AO26 -> 0.5 | M28: =[1]Анализ!AL26 -> 1.5 | N28: =E28+G28+H28+I28+J28+K28+L28+M28 -> 7.75 | O28: 1
A29: 8 | B29: Слюдянский муниципальный район Иркутской области | C29: =[1]Анализ!B27 -> Слюдянское городское поселение | D29: =[1]Анализ!G27 -> Старый Хамар-Дабан | E29: =[1]Анализ!Q27 -> 0.25 | G29: =[1]Анализ!V27 -> 0.5 | H29: =[1]Анализ!Y27 -> 0.25 | I29: =[1]Анализ!N27 -> 1.25 | J29: =[1]Анализ!AC27 -> 2.5 | K29: =[1]Анализ!AF27 -> 0.25 | L29: =[1]Анализ!AO27 -> 0.5 | M29: =[1]Анализ!AL27 -> 1.5 | N29: =E29+G29+H29+I29+J29+K29+L29+M29 -> 7 | O29: 11
A30: 9 | B30: Слюдянский муниципальный район Иркутской области | C30: =[1]Анализ!B28 -> Утуликское сельское поселение | D30: =[1]Анализ!G28 -> Парковая зона "Место добрых встреч на Байкале" | E30: =[1]Анализ!Q28 -> 0.25 | G30: =[1]Анализ!V28 -> 0.5 | H30: =[1]Анализ!Y28 -> 0.25 | I30: =[1]Анализ!N28 -> 1.25 | J30: =[1]Анализ!AC28 -> 2.5 | K30: =[1]Анализ!AF28 -> 0.25 | L30: =[1]Анализ!AO28 -> 0.5 | M30: =[1]Анализ!AL28 -> 1.5 | N30: =E30+G30+H30+I30+J30+K30+L30+M30 -> 7 | O30: 15
A31: 10 | B31: Слюдянский муниципальный район Иркутской области | C31: =[1]Анализ!B29 -> Слюдянское городское поселение | D31: =[1]Анализ!G29 -> Энергия | E31: =[1]Анализ!Q29 -> 0.25 | G31: =[1]Анализ!V29 -> 0.5 | H31: =[1]Анализ!Y29 -> 0.25 | I31: =[1]Анализ!N29 -> 1.25 | J31: =[1]Анализ!AC29 -> 2.5 | K31: =[1]Анализ!AF29 -> 0.25 | L31: =[1]Анализ!AO29 -> 0.5 | M31: =[1]Анализ!AL29 -> 1.5 | N31: =E31+G31+H31+I31+J31+K31+L31+M31 -> 7 | O31: 12
A32: 11 | B32: Слюдянский муниципальный район Иркутской области | C32: =[1]Анализ!B30 -> Слюдянское городское поселение | D32: =[1]Анализ!G30 -> Комфортный уголок на Советской | E32: =[1]Анализ!Q30 -> 0.25 | G32: =[1]Анализ!V30 -> 0.5 | H32: =[1]Анализ!Y30 -> 0.25 | I32: =[1]Анализ!N30 -> 1.25 | J32: =[1]Анализ!AC30 -> 2.5 | K32: =[1]Анализ!AF30 -> 0.25 | L32: =[1]Анализ!AO30 -> 0.5 | M32: =[1]Анализ!AL30 -> 1.5 | N32: =E32+G32+H32+I32+J32+K32+L32+M32 -> 7 | O32: 9
A33: 12 | B33: Слюдянский муниципальный район Иркутской области | C33: =[1]Анализ!B31 -> Байкальское горолское поселение | D33: =[1]Анализ!G31 -> II-ой Межрегиональный фестиваль народного творчества "Душа Байкала" для народов Сибири и Дальнего Востока | E33: =[1]Анализ!Q31 -> 0.25 | G33: =[1]Анализ!V31 -> 0.5 | H33: =[1]Анализ!Y31 -> 0.25 | I33: =[1]Анализ!N31 -> 1.25 | J33: =[1]Анализ!AC31 -> 2.5 | K33: =[1]Анализ!AF31 -> 0.25 | L33: =[1]Анализ!AO31 -> 0.5 | M33: =[1]Анализ!AL31 -> 1.5 | N33: =E33+G33+H33+I33+J33+K33+L33+M33 -> 7 | O33: 16
... A45: 24 | B45: Слюдянский муниципальный район Иркутской области | C45: =[1]Анализ!B43 -> Байкальское горолское поселение | D45: =[1]Анализ!G43 -> "Торговые ряды" | E45: =[1]Анализ!Q43 -> 0.25 | G45: =[1]Анализ!V43 -> 0.5 | H45: =[1]Анализ!Y43 -> 0.25 | I45: =[1]Анализ!N43 -> 1.25 | J45: =[1]Анализ!AC43 -> 2.5 | K45: =[1]Анализ!AF43 -> 0.25 | L45: =[1]Анализ!AO43 -> 0.5 | M45: =[1]Анализ!AL43 -> 1.5 | N45: =E45+G45+H45+I45+J45+K45+L45+M45 -> 7 | O45: 14
